BEGIN:VCALENDAR
VERSION:2.0
PRODID:-//Zwingli Kirche - ECPv6.15.20//NONSGML v1.0//EN
CALSCALE:GREGORIAN
METHOD:PUBLISH
X-WR-CALNAME:Zwingli Kirche
X-ORIGINAL-URL:https://www.zwinglikirche.at/wp
X-WR-CALDESC:Veranstaltungen für Zwingli Kirche
REFRESH-INTERVAL;VALUE=DURATION:PT1H
X-Robots-Tag:noindex
X-PUBLISHED-TTL:PT1H
BEGIN:VTIMEZONE
TZID:Europe/Vienna
BEGIN:DAYLIGHT
TZOFFSETFROM:+0100
TZOFFSETTO:+0200
TZNAME:CEST
DTSTART:20250330T010000
END:DAYLIGHT
BEGIN:STANDARD
TZOFFSETFROM:+0200
TZOFFSETTO:+0100
TZNAME:CET
DTSTART:20251026T010000
END:STANDARD
BEGIN:DAYLIGHT
TZOFFSETFROM:+0100
TZOFFSETTO:+0200
TZNAME:CEST
DTSTART:20260329T010000
END:DAYLIGHT
BEGIN:STANDARD
TZOFFSETFROM:+0200
TZOFFSETTO:+0100
TZNAME:CET
DTSTART:20261025T010000
END:STANDARD
BEGIN:DAYLIGHT
TZOFFSETFROM:+0100
TZOFFSETTO:+0200
TZNAME:CEST
DTSTART:20270328T010000
END:DAYLIGHT
BEGIN:STANDARD
TZOFFSETFROM:+0200
TZOFFSETTO:+0100
TZNAME:CET
DTSTART:20271031T010000
END:STANDARD
END:VTIMEZONE
BEGIN:VEVENT
DTSTART;TZID=Europe/Vienna:20261016T190000
DTEND;TZID=Europe/Vienna:20261016T203000
DTSTAMP:20260425T205206
CREATED:20260221T203150Z
LAST-MODIFIED:20260221T203328Z
UID:13688-1792177200-1792182600@www.zwinglikirche.at
SUMMARY:theatro caprile - Szenische Lesung: „Name Sophie Scholl“ (s. Details)
DESCRIPTION:Spiel und szenische Lesung „NAME: SOPHIE SCHOLL“ von Rike Reiniger \n„teatro caprile“ \nGewissensfrage einer namensgleichen Jusstudentin: Soll sie gegen den korrupten Professor\, der sich für die Bekanntgabe seiner Prüfungsfragen fürstlich entlohnen lässt\, aussagen oder zugunsten ihrer juristischen Karriere schweigen – und damit die vom Professor als Bauernopfer vorgeschobene Sekretärin verraten und den Mühlen der Justiz ausliefern?
URL:https://www.zwinglikirche.at/wp/vorgang/theatro-caprile-szenische-lesung-name-sophie-scholl-s-details/
LOCATION:Zwinglikirche\, Schweglerstr. 39
CATEGORIES:Veranstaltungen
END:VEVENT
END:VCALENDAR