BEGIN:VCALENDAR
VERSION:2.0
PRODID:-//Zwingli Kirche - ECPv6.15.20//NONSGML v1.0//EN
CALSCALE:GREGORIAN
METHOD:PUBLISH
X-WR-CALNAME:Zwingli Kirche
X-ORIGINAL-URL:https://www.zwinglikirche.at/wp
X-WR-CALDESC:Veranstaltungen für Zwingli Kirche
REFRESH-INTERVAL;VALUE=DURATION:PT1H
X-Robots-Tag:noindex
X-PUBLISHED-TTL:PT1H
BEGIN:VTIMEZONE
TZID:Europe/Vienna
BEGIN:DAYLIGHT
TZOFFSETFROM:+0100
TZOFFSETTO:+0200
TZNAME:CEST
DTSTART:20250330T010000
END:DAYLIGHT
BEGIN:STANDARD
TZOFFSETFROM:+0200
TZOFFSETTO:+0100
TZNAME:CET
DTSTART:20251026T010000
END:STANDARD
BEGIN:DAYLIGHT
TZOFFSETFROM:+0100
TZOFFSETTO:+0200
TZNAME:CEST
DTSTART:20260329T010000
END:DAYLIGHT
BEGIN:STANDARD
TZOFFSETFROM:+0200
TZOFFSETTO:+0100
TZNAME:CET
DTSTART:20261025T010000
END:STANDARD
BEGIN:DAYLIGHT
TZOFFSETFROM:+0100
TZOFFSETTO:+0200
TZNAME:CEST
DTSTART:20270328T010000
END:DAYLIGHT
BEGIN:STANDARD
TZOFFSETFROM:+0200
TZOFFSETTO:+0100
TZNAME:CET
DTSTART:20271031T010000
END:STANDARD
END:VTIMEZONE
BEGIN:VEVENT
DTSTART;TZID=Europe/Vienna:20260529T180000
DTEND;TZID=Europe/Vienna:20260529T213000
DTSTAMP:20260425T172523
CREATED:20260221T193849Z
LAST-MODIFIED:20260321T110715Z
UID:13665-1780077600-1780090200@www.zwinglikirche.at
SUMMARY:Lange Nacht der Kirchen - Zwinglikirche (s. Details)
DESCRIPTION:Lange Nacht der Kirchen – Programm in der Zwinglikirche \n18:00  Konzert der koreanischen Gottesdienstgemeinde mit Instrumentalmusik und Sologesang. \n18:45  Szenische Lesung: Kindheit und Jugend unterm Hakenkreuz mit dem teatro caprile \nAndreas Kosek und die agnostisch-jüdische Schauspielerin Andrea Nitsche von teatro caprile haben eine szenische Lesung zum Themenkomplex ‚Kindheit und Jugend unterm Hakenkreuz’ entwickelt. Da die Zeitzeug:innen immer weniger werden\, sehen wir es als unsere Aufgabe\, die Erinnerung an die Gräuel der NS-Zeit und die Propaganda\, mit der sie eingeleitet und begleitet wurden\, wach zu halten. Die Lesung widmet sich besonders dem Jung-Sein vor und während des Zweiten Weltkriegs; wie ist es jugendlichen Verführten\, als auch jungen Verfolgten ergangen? Ergänzt wird die Lesung durch Texte von Jura Soyfer („Saurier erwache“\, „Der Weltuntergang“)\nveranstaltet vom teatro caprile mit Andrea Nitsche und Andreas Kosek \n20:00 Lieder zum Paul Gerhardt-Jahr mit dem Zwinglichor zum Mitsingen \n21:00  Nachtgebet zu sozialen Utopien\, die Mut machen mit Liedern aus Taizé \n  \nLink zum Programm der Langen Nacht der Kirchen 
URL:https://www.zwinglikirche.at/wp/vorgang/lange-nacht-kirchen-zwinglikirche-s-details/
LOCATION:Zwinglikirche\, Schweglerstr. 39
CATEGORIES:Gottesdienste,Veranstaltungen
ATTACH;FMTTYPE=image/png:https://www.zwinglikirche.at/wp/wp-content/uploads/2026/02/logo_2026.png
END:VEVENT
END:VCALENDAR