BEGIN:VCALENDAR
VERSION:2.0
PRODID:-//Zwingli Kirche - ECPv6.15.20//NONSGML v1.0//EN
CALSCALE:GREGORIAN
METHOD:PUBLISH
X-ORIGINAL-URL:https://www.zwinglikirche.at/wp
X-WR-CALDESC:Veranstaltungen für Zwingli Kirche
REFRESH-INTERVAL;VALUE=DURATION:PT1H
X-Robots-Tag:noindex
X-PUBLISHED-TTL:PT1H
BEGIN:VTIMEZONE
TZID:Europe/Vienna
BEGIN:DAYLIGHT
TZOFFSETFROM:+0100
TZOFFSETTO:+0200
TZNAME:CEST
DTSTART:20250330T010000
END:DAYLIGHT
BEGIN:STANDARD
TZOFFSETFROM:+0200
TZOFFSETTO:+0100
TZNAME:CET
DTSTART:20251026T010000
END:STANDARD
BEGIN:DAYLIGHT
TZOFFSETFROM:+0100
TZOFFSETTO:+0200
TZNAME:CEST
DTSTART:20260329T010000
END:DAYLIGHT
BEGIN:STANDARD
TZOFFSETFROM:+0200
TZOFFSETTO:+0100
TZNAME:CET
DTSTART:20261025T010000
END:STANDARD
BEGIN:DAYLIGHT
TZOFFSETFROM:+0100
TZOFFSETTO:+0200
TZNAME:CEST
DTSTART:20270328T010000
END:DAYLIGHT
BEGIN:STANDARD
TZOFFSETFROM:+0200
TZOFFSETTO:+0100
TZNAME:CET
DTSTART:20271031T010000
END:STANDARD
END:VTIMEZONE
BEGIN:VEVENT
DTSTART;TZID=Europe/Vienna:20260510T100000
DTEND;TZID=Europe/Vienna:20260510T110000
DTSTAMP:20260425T170549
CREATED:20260204T134259Z
LAST-MODIFIED:20260204T134259Z
UID:13578-1778407200-1778410800@www.zwinglikirche.at
SUMMARY:GD mit Antje Klein (Kanzeltausch mit Ev. Methodist.)
DESCRIPTION:
URL:https://www.zwinglikirche.at/wp/vorgang/gd-mit-antje-klein-kanzeltausch-mit-ev-methodist/
LOCATION:Zwinglikirche\, Schweglerstr. 39
CATEGORIES:Gottesdienste
END:VEVENT
BEGIN:VEVENT
DTSTART;TZID=Europe/Vienna:20260510T100000
DTEND;TZID=Europe/Vienna:20260510T110000
DTSTAMP:20260425T170549
CREATED:20260221T182620Z
LAST-MODIFIED:20260221T182620Z
UID:13609-1778407200-1778410800@www.zwinglikirche.at
SUMMARY:GD mit Antje Klein (Kanzeltausch mit Ev. Methodist.)
DESCRIPTION:
URL:https://www.zwinglikirche.at/wp/vorgang/gd-mit-antje-klein-kanzeltausch-mit-ev-methodist-2/
LOCATION:Zwinglikirche\, Schweglerstr. 39
CATEGORIES:Gottesdienste
END:VEVENT
END:VCALENDAR