BEGIN:VCALENDAR
VERSION:2.0
PRODID:-//Zwingli Kirche - ECPv6.15.20//NONSGML v1.0//EN
CALSCALE:GREGORIAN
METHOD:PUBLISH
X-ORIGINAL-URL:https://www.zwinglikirche.at/wp
X-WR-CALDESC:Veranstaltungen für Zwingli Kirche
REFRESH-INTERVAL;VALUE=DURATION:PT1H
X-Robots-Tag:noindex
X-PUBLISHED-TTL:PT1H
BEGIN:VTIMEZONE
TZID:Europe/Vienna
BEGIN:DAYLIGHT
TZOFFSETFROM:+0100
TZOFFSETTO:+0200
TZNAME:CEST
DTSTART:20250330T010000
END:DAYLIGHT
BEGIN:STANDARD
TZOFFSETFROM:+0200
TZOFFSETTO:+0100
TZNAME:CET
DTSTART:20251026T010000
END:STANDARD
BEGIN:DAYLIGHT
TZOFFSETFROM:+0100
TZOFFSETTO:+0200
TZNAME:CEST
DTSTART:20260329T010000
END:DAYLIGHT
BEGIN:STANDARD
TZOFFSETFROM:+0200
TZOFFSETTO:+0100
TZNAME:CET
DTSTART:20261025T010000
END:STANDARD
BEGIN:DAYLIGHT
TZOFFSETFROM:+0100
TZOFFSETTO:+0200
TZNAME:CEST
DTSTART:20270328T010000
END:DAYLIGHT
BEGIN:STANDARD
TZOFFSETFROM:+0200
TZOFFSETTO:+0100
TZNAME:CET
DTSTART:20271031T010000
END:STANDARD
END:VTIMEZONE
BEGIN:VEVENT
DTSTART;TZID=Europe/Vienna:20260508T190000
DTEND;TZID=Europe/Vienna:20260508T235500
DTSTAMP:20260425T173021
CREATED:20260106T164331Z
LAST-MODIFIED:20260106T165419Z
UID:13428-1778266800-1778284500@www.zwinglikirche.at
SUMMARY:Ball der ev. Jugend Wien (s. Details)
DESCRIPTION:Evangelisch Tanzt – der Ball der Evangelischen Jugend Wien  \nDetails siehe LINK
URL:https://www.zwinglikirche.at/wp/vorgang/ball-der-ev-jugend-wien-s-details/
CATEGORIES:Veranstaltungen
END:VEVENT
END:VCALENDAR