BEGIN:VCALENDAR
VERSION:2.0
PRODID:-//Zwingli Kirche - ECPv6.15.20//NONSGML v1.0//EN
CALSCALE:GREGORIAN
METHOD:PUBLISH
X-ORIGINAL-URL:https://www.zwinglikirche.at/wp
X-WR-CALDESC:Veranstaltungen für Zwingli Kirche
REFRESH-INTERVAL;VALUE=DURATION:PT1H
X-Robots-Tag:noindex
X-PUBLISHED-TTL:PT1H
BEGIN:VTIMEZONE
TZID:Europe/Vienna
BEGIN:DAYLIGHT
TZOFFSETFROM:+0100
TZOFFSETTO:+0200
TZNAME:CEST
DTSTART:20250330T010000
END:DAYLIGHT
BEGIN:STANDARD
TZOFFSETFROM:+0200
TZOFFSETTO:+0100
TZNAME:CET
DTSTART:20251026T010000
END:STANDARD
BEGIN:DAYLIGHT
TZOFFSETFROM:+0100
TZOFFSETTO:+0200
TZNAME:CEST
DTSTART:20260329T010000
END:DAYLIGHT
BEGIN:STANDARD
TZOFFSETFROM:+0200
TZOFFSETTO:+0100
TZNAME:CET
DTSTART:20261025T010000
END:STANDARD
BEGIN:DAYLIGHT
TZOFFSETFROM:+0100
TZOFFSETTO:+0200
TZNAME:CEST
DTSTART:20270328T010000
END:DAYLIGHT
BEGIN:STANDARD
TZOFFSETFROM:+0200
TZOFFSETTO:+0100
TZNAME:CET
DTSTART:20271031T010000
END:STANDARD
END:VTIMEZONE
BEGIN:VEVENT
DTSTART;TZID=Europe/Vienna:20260429T190000
DTEND;TZID=Europe/Vienna:20260429T200000
DTSTAMP:20260425T153816
CREATED:20260126T182038Z
LAST-MODIFIED:20260126T182253Z
UID:13524-1777489200-1777492800@www.zwinglikirche.at
SUMMARY:Taizégebet
DESCRIPTION:Link zu den Taizegebeten
URL:https://www.zwinglikirche.at/wp/vorgang/taizegebet-18/
LOCATION:Zwinglikirche\, Schweglerstr. 39
CATEGORIES:Gottesdienste,Veranstaltungen
ATTACH;FMTTYPE=image/jpeg:https://www.zwinglikirche.at/wp/wp-content/uploads/2022/12/20210922_185613-1.jpeg
END:VEVENT
END:VCALENDAR