BEGIN:VCALENDAR
VERSION:2.0
PRODID:-//Zwingli Kirche - ECPv6.15.20//NONSGML v1.0//EN
CALSCALE:GREGORIAN
METHOD:PUBLISH
X-WR-CALNAME:Zwingli Kirche
X-ORIGINAL-URL:https://www.zwinglikirche.at/wp
X-WR-CALDESC:Veranstaltungen für Zwingli Kirche
REFRESH-INTERVAL;VALUE=DURATION:PT1H
X-Robots-Tag:noindex
X-PUBLISHED-TTL:PT1H
BEGIN:VTIMEZONE
TZID:Europe/Vienna
BEGIN:DAYLIGHT
TZOFFSETFROM:+0100
TZOFFSETTO:+0200
TZNAME:CEST
DTSTART:20250330T010000
END:DAYLIGHT
BEGIN:STANDARD
TZOFFSETFROM:+0200
TZOFFSETTO:+0100
TZNAME:CET
DTSTART:20251026T010000
END:STANDARD
BEGIN:DAYLIGHT
TZOFFSETFROM:+0100
TZOFFSETTO:+0200
TZNAME:CEST
DTSTART:20260329T010000
END:DAYLIGHT
BEGIN:STANDARD
TZOFFSETFROM:+0200
TZOFFSETTO:+0100
TZNAME:CET
DTSTART:20261025T010000
END:STANDARD
BEGIN:DAYLIGHT
TZOFFSETFROM:+0100
TZOFFSETTO:+0200
TZNAME:CEST
DTSTART:20270328T010000
END:DAYLIGHT
BEGIN:STANDARD
TZOFFSETFROM:+0200
TZOFFSETTO:+0100
TZNAME:CET
DTSTART:20271031T010000
END:STANDARD
END:VTIMEZONE
BEGIN:VEVENT
DTSTART;TZID=Europe/Vienna:20260419T190000
DTEND;TZID=Europe/Vienna:20260419T200000
DTSTAMP:20260425T154159
CREATED:20260204T130111Z
LAST-MODIFIED:20260401T181044Z
UID:13572-1776625200-1776628800@www.zwinglikirche.at
SUMMARY:Zwischenräume-GD: Angelo Comino & Team (s. Details)
DESCRIPTION:Zwischenräume – ein neues Gottesdienstformat der anderen Art\nZwischen uns\, zwischen verschiedenen Räumen\, zwischen den Welten\, zwischen den Zeiten\, zwischen unseren Gedanken.\nEin Gottesdienst\, bei dem Anderes Platz hat und Vieles möglich ist.\n\nLink zu den nächsten Zwischenräume Gottesdienste
URL:https://www.zwinglikirche.at/wp/vorgang/zwischenraeume-gd-angelo-comino-team/
CATEGORIES:Gottesdienste
ATTACH;FMTTYPE=image/jpeg:https://www.zwinglikirche.at/wp/wp-content/uploads/2025/02/Logo-Zwischenraeume.jpg
END:VEVENT
END:VCALENDAR