BEGIN:VCALENDAR
VERSION:2.0
PRODID:-//Zwingli Kirche - ECPv6.15.20//NONSGML v1.0//EN
CALSCALE:GREGORIAN
METHOD:PUBLISH
X-WR-CALNAME:Zwingli Kirche
X-ORIGINAL-URL:https://www.zwinglikirche.at/wp
X-WR-CALDESC:Veranstaltungen für Zwingli Kirche
REFRESH-INTERVAL;VALUE=DURATION:PT1H
X-Robots-Tag:noindex
X-PUBLISHED-TTL:PT1H
BEGIN:VTIMEZONE
TZID:Europe/Vienna
BEGIN:DAYLIGHT
TZOFFSETFROM:+0100
TZOFFSETTO:+0200
TZNAME:CEST
DTSTART:20250330T010000
END:DAYLIGHT
BEGIN:STANDARD
TZOFFSETFROM:+0200
TZOFFSETTO:+0100
TZNAME:CET
DTSTART:20251026T010000
END:STANDARD
BEGIN:DAYLIGHT
TZOFFSETFROM:+0100
TZOFFSETTO:+0200
TZNAME:CEST
DTSTART:20260329T010000
END:DAYLIGHT
BEGIN:STANDARD
TZOFFSETFROM:+0200
TZOFFSETTO:+0100
TZNAME:CET
DTSTART:20261025T010000
END:STANDARD
BEGIN:DAYLIGHT
TZOFFSETFROM:+0100
TZOFFSETTO:+0200
TZNAME:CEST
DTSTART:20270328T010000
END:DAYLIGHT
BEGIN:STANDARD
TZOFFSETFROM:+0200
TZOFFSETTO:+0100
TZNAME:CET
DTSTART:20271031T010000
END:STANDARD
END:VTIMEZONE
BEGIN:VEVENT
DTSTART;TZID=Europe/Vienna:20260411T100000
DTEND;TZID=Europe/Vienna:20260411T170000
DTSTAMP:20260425T154803
CREATED:20260221T193356Z
LAST-MODIFIED:20260401T170838Z
UID:13663-1775901600-1775926800@www.zwinglikirche.at
SUMMARY:HB-Frauentag zum Thema "Gestutzte Flügel" in Oberwart (s. Details)
DESCRIPTION:HB-Frauentag zum Thema „Gestutzte Flügel“\nmit der Vorsitzenden der Evang. Frauenarbeit Frau R. Desch\nüber Frauen in schwierigen Lebenssituationen \nBitte um Anmeldung.
URL:https://www.zwinglikirche.at/wp/vorgang/hb-frauentag-zum-thema-gestutzte-fluegel-in-oberwart-s-details/
LOCATION:Pfarrgemeinde Oberwart\, Oberwart\, 7400\, Österreich
CATEGORIES:Veranstaltungen
END:VEVENT
END:VCALENDAR