BEGIN:VCALENDAR
VERSION:2.0
PRODID:-//Zwingli Kirche - ECPv6.15.20//NONSGML v1.0//EN
CALSCALE:GREGORIAN
METHOD:PUBLISH
X-WR-CALNAME:Zwingli Kirche
X-ORIGINAL-URL:https://www.zwinglikirche.at/wp
X-WR-CALDESC:Veranstaltungen für Zwingli Kirche
REFRESH-INTERVAL;VALUE=DURATION:PT1H
X-Robots-Tag:noindex
X-PUBLISHED-TTL:PT1H
BEGIN:VTIMEZONE
TZID:Europe/Vienna
BEGIN:DAYLIGHT
TZOFFSETFROM:+0100
TZOFFSETTO:+0200
TZNAME:CEST
DTSTART:20250330T010000
END:DAYLIGHT
BEGIN:STANDARD
TZOFFSETFROM:+0200
TZOFFSETTO:+0100
TZNAME:CET
DTSTART:20251026T010000
END:STANDARD
BEGIN:DAYLIGHT
TZOFFSETFROM:+0100
TZOFFSETTO:+0200
TZNAME:CEST
DTSTART:20260329T010000
END:DAYLIGHT
BEGIN:STANDARD
TZOFFSETFROM:+0200
TZOFFSETTO:+0100
TZNAME:CET
DTSTART:20261025T010000
END:STANDARD
BEGIN:DAYLIGHT
TZOFFSETFROM:+0100
TZOFFSETTO:+0200
TZNAME:CEST
DTSTART:20270328T010000
END:DAYLIGHT
BEGIN:STANDARD
TZOFFSETFROM:+0200
TZOFFSETTO:+0100
TZNAME:CET
DTSTART:20271031T010000
END:STANDARD
END:VTIMEZONE
BEGIN:VEVENT
DTSTART;TZID=Europe/Vienna:20260403T100000
DTEND;TZID=Europe/Vienna:20260403T110000
DTSTAMP:20260425T154214
CREATED:20260204T125122Z
LAST-MODIFIED:20260331T210127Z
UID:13559-1775210400-1775214000@www.zwinglikirche.at
SUMMARY:Karfreitags-GD mit Thomas Hennefeld\, AM
DESCRIPTION:
URL:https://www.zwinglikirche.at/wp/vorgang/karfreitags-gd-mit-thomas-hennefeld-am/
LOCATION:Zwinglikirche\, Schweglerstr. 39
CATEGORIES:Gottesdienste
ATTACH;FMTTYPE=image/jpeg:https://www.zwinglikirche.at/wp/wp-content/uploads/2026/02/Bild-Ostergottesdienste-2026.jpg
END:VEVENT
BEGIN:VEVENT
DTSTART;TZID=Europe/Vienna:20260403T170000
DTEND;TZID=Europe/Vienna:20260403T180000
DTSTAMP:20260425T154214
CREATED:20260204T125234Z
LAST-MODIFIED:20260331T210048Z
UID:13561-1775235600-1775239200@www.zwinglikirche.at
SUMMARY:Karfreitags-GD mit Thomas Hennefeld\, AM
DESCRIPTION:
URL:https://www.zwinglikirche.at/wp/vorgang/karfreitags-gd-mit-thomas-hennefeld-am-2/
LOCATION:Zwinglikirche\, Schweglerstr. 39
CATEGORIES:Gottesdienste
ATTACH;FMTTYPE=image/jpeg:https://www.zwinglikirche.at/wp/wp-content/uploads/2026/02/Bild-Ostergottesdienste-2026.jpg
END:VEVENT
END:VCALENDAR